BEGIN:VCALENDAR
VERSION:2.0
PRODID:-//EX TENEBRIS LUX - ECPv6.15.13//NONSGML v1.0//EN
CALSCALE:GREGORIAN
METHOD:PUBLISH
X-WR-CALNAME:EX TENEBRIS LUX
X-ORIGINAL-URL:https://extenebrislux.fr
X-WR-CALDESC:Évènements pour EX TENEBRIS LUX
REFRESH-INTERVAL;VALUE=DURATION:PT1H
X-Robots-Tag:noindex
X-PUBLISHED-TTL:PT1H
BEGIN:VTIMEZONE
TZID:Europe/Paris
BEGIN:DAYLIGHT
TZOFFSETFROM:+0100
TZOFFSETTO:+0200
TZNAME:CEST
DTSTART:20240331T010000
END:DAYLIGHT
BEGIN:STANDARD
TZOFFSETFROM:+0200
TZOFFSETTO:+0100
TZNAME:CET
DTSTART:20241027T010000
END:STANDARD
BEGIN:DAYLIGHT
TZOFFSETFROM:+0100
TZOFFSETTO:+0200
TZNAME:CEST
DTSTART:20250330T010000
END:DAYLIGHT
BEGIN:STANDARD
TZOFFSETFROM:+0200
TZOFFSETTO:+0100
TZNAME:CET
DTSTART:20251026T010000
END:STANDARD
BEGIN:DAYLIGHT
TZOFFSETFROM:+0100
TZOFFSETTO:+0200
TZNAME:CEST
DTSTART:20260329T010000
END:DAYLIGHT
BEGIN:STANDARD
TZOFFSETFROM:+0200
TZOFFSETTO:+0100
TZNAME:CET
DTSTART:20261025T010000
END:STANDARD
END:VTIMEZONE
BEGIN:VEVENT
DTSTART;TZID=Europe/Paris:20251023T190000
DTEND;TZID=Europe/Paris:20251023T235000
DTSTAMP:20260423T203846
CREATED:20250611T160232Z
LAST-MODIFIED:20250611T160537Z
UID:2530-1761246000-1761263400@extenebrislux.fr
SUMMARY:AUTHOR PUNISHER [INDUSTRIAL DOOM & DRONE MACHINE-US] & WYATT E. [BE] & YAROSTAN [FR]
DESCRIPTION:Cet évènement est passé. \n				\n				\n					\n		\n					\n		\n				\n						\n					\n			\n						\n				\n					\n	AUTHOR PUNISHER [INDUSTRIAL DOOM & DRONE MACHINE-US] & WYATT E. [BE] & YAROSTAN [FR]				\n				\n				\n				\n					\n		\n			23 Oct 2025\n\n	\n\n	  @  \n\n\n19h00\n\n		\n\n\n\n	\n	  -  \n\n23h50\n\n\n\n	\n				\n				\n					\n		\n					\n		\n				\n						\n					\n			\n						\n				\n					\n	\n				\n				\n					\n		\n				\n			\n						\n				\n					\n	\n	Lieu			\n				\n	\n	Maison des Choeurs\n	\n	\n\nPlace Albert 1er\n	\n		\n		Montpellier\,\n\n\n	34000\n\n	France\n\n\n\n\n\n\n	\n\n\n\n		\n	\n				\n				\n				\n				\n					\nÀ partir de 24€				\n				\n				\n				\n					\n	\n		\n\n	\n	Ajouter au calendrier	\n		\n	\n\n		\n			\n									\n	Google Agenda\n\n									\n	iCalendar\n\n									\n	Outlook 365\n\n																\n		\n\n		\n	\n\n				\n				\n				\n				\n					\n	\n\n	Catégories :	\n		EX TENEBRIS LUX	\n\n				\n				\n				\n				\n					\n	\n	Organisateur\n	WHAT THE FEST\n	\n\n				\n				\n				\n				\n							\n			\n		\n						\n				\n				\n				\n									\n					\n						\n									+ d'infos sur les artistes\n					\n					\n				\n								\n				\n					\n		\n					\n		\n				\n						\n					\n			\n						\n						\n					\n			\n						\n				\n									AUTHOR & PUNISHER  ////  INDUSTRIAL DOOM DRONE MACHINES (US) Author & Punisher est un groupe unipersonnel dirigé par Tristan Shone. Utilisant des machines\, des contrôleurs et des haut-parleurs fabriqués sur mesure et appelés Drone Machines\, la musique s’inspire fortement des aspects de l’automatisation industrielle\, de la robotique et des outils et appareils mécaniques.En 2024\, A&P a célébré deux décennies d’affinement de son art – inventant méticuleusement\, usinant\, expérimentant et créant\, inventer\, usiner\, expérimenter et créer des instruments de musique sur mesure pour ses incroyablespour ses incroyables enregistrements et performances live\, faisant le tour du monde avec des artistes tels que TOOL\, HEALTH\, Pertubator\, Neurosis et bien d’autres. En 2025\, il sortira son huitième album complet sur Relapse Records.album complet via Relapse Records ainsi qu’un accent encore plus important et une renaissance du rituel viscéral de la scène.  WYATT E.  ////  ANTIQUE DOOM DRONE (BE) Groupe jouant masqué sur scène\, Wyatt E. fait sensation depuis leur début et n’est pas la formation doom classique. Proposant des ambiances psychédéliques à souhait\, le trio/quatuor (travaillant à une batterie ou une batterie + percussions) emmène dans des contrées lointaines. Doom Oriental à la Om\, synthès\, percussions\, longues plages méditatives et transcendantales\, le groupe a partagé sa vision du Doom lors de nombreuses tournées en Europe (support de Messa) et apparitions en festivals (Arctangent\, Roadburn\, Summer Dying Loud\, Mystic Festival\, Stoned From the Underground\, et bien d’autres). YAROSTAN  ////  SCREAMO POST HARDCORE (FR) Yarostan se forme début 2016 à Marseille et depuis continue d’explorer les contours de leur son\, avec maintenant une formation à trois guitares\, batterie\, basse et synthétiseurs.  Sans jamais se plier aux règles\, parfois effronté\, parfois abyssal\, souvent mélancolique\, toujours avec passion\,Yarostan nous emmène à travers une musique en constante évolution\, portée par quatre voix chantées en français qui prend tout son sens lors de lives où l’introspection rencontre l’urgence et le massif. Entre 2016 et 2020\, Yarostan avait posé les bases du groupe avec un EP\, 2 splits et un 1er album oscillant entre screamo et post-hardcore. Après un deuxième album en 2022\, un split EP en 2023 et plusieurs tournées à travers l’Europe entre 2019 et 2024Leur nouvel album « III »\, qui verra le jour en juin 2025\, prend un virage plus post-metal & sludge tout en gardant ses racines screamo et punk. 								\n				\n					\n		\n				\n			\n						\n				\n							\n					\n						\n				\n				\n				\n							\n			\n		\n						\n				\n				\n				\n							\n					\n						\n				\n				\n				\n							\n			\n		\n						\n				\n				\n				\n							\n					\n						\n				\n					\n		\n					\n		\n					\n		\n					\n		\n				\n						\n					\n			\n						\n				\n									\n				\n					\n		\n					\n		\n				\n						\n					\n			\n						\n				\n					\n	\n		\n\n				HEGEMON [BLACK METAL-FR] & SKAPHOS[FR] & DISMO [FR]	\n\n\n		\n	\n		TAR POND [ULTRA DOOM-CH] & VESTIGE[FR] & LIMBES [FR]
URL:https://extenebrislux.fr/event/author-punisher-industrial-doom-drone-machine-us-wyatt-e-be-yarostan-fr/
LOCATION:Maison des Choeurs\, Place Albert 1er\, Montpellier\, 34000\, France
CATEGORIES:EX TENEBRIS LUX
ATTACH;FMTTYPE=image/jpeg:https://extenebrislux.fr/wp-content/uploads/503918158_1148486943978906_4020511609850255269_n.jpg
END:VEVENT
END:VCALENDAR