BEGIN:VCALENDAR
VERSION:2.0
PRODID:-//EX TENEBRIS LUX - ECPv6.15.13//NONSGML v1.0//EN
CALSCALE:GREGORIAN
METHOD:PUBLISH
X-WR-CALNAME:EX TENEBRIS LUX
X-ORIGINAL-URL:https://extenebrislux.fr
X-WR-CALDESC:Évènements pour EX TENEBRIS LUX
REFRESH-INTERVAL;VALUE=DURATION:PT1H
X-Robots-Tag:noindex
X-PUBLISHED-TTL:PT1H
BEGIN:VTIMEZONE
TZID:Europe/Paris
BEGIN:DAYLIGHT
TZOFFSETFROM:+0100
TZOFFSETTO:+0200
TZNAME:CEST
DTSTART:20240331T010000
END:DAYLIGHT
BEGIN:STANDARD
TZOFFSETFROM:+0200
TZOFFSETTO:+0100
TZNAME:CET
DTSTART:20241027T010000
END:STANDARD
BEGIN:DAYLIGHT
TZOFFSETFROM:+0100
TZOFFSETTO:+0200
TZNAME:CEST
DTSTART:20250330T010000
END:DAYLIGHT
BEGIN:STANDARD
TZOFFSETFROM:+0200
TZOFFSETTO:+0100
TZNAME:CET
DTSTART:20251026T010000
END:STANDARD
BEGIN:DAYLIGHT
TZOFFSETFROM:+0100
TZOFFSETTO:+0200
TZNAME:CEST
DTSTART:20260329T010000
END:DAYLIGHT
BEGIN:STANDARD
TZOFFSETFROM:+0200
TZOFFSETTO:+0100
TZNAME:CET
DTSTART:20261025T010000
END:STANDARD
END:VTIMEZONE
BEGIN:VEVENT
DTSTART;TZID=Europe/Paris:20251025T193000
DTEND;TZID=Europe/Paris:20251025T235000
DTSTAMP:20260423T165555
CREATED:20250724T091954Z
LAST-MODIFIED:20250724T092422Z
UID:2637-1761420600-1761436200@extenebrislux.fr
SUMMARY:BUÑUEL [heavy turbulent noise rock-us/it/FR] & ÅRABROT [no] & LOONS [FR]
DESCRIPTION:Cet évènement est passé. \n				\n				\n					\n		\n					\n		\n				\n						\n					\n			\n						\n				\n					\n	BUÑUEL [heavy turbulent noise rock-us/it/FR] & ÅRABROT [no] & LOONS [FR]				\n				\n				\n				\n					\n		\n			25 Oct 2025\n\n	\n\n	  @  \n\n\n19h30\n\n		\n\n\n\n	\n	  -  \n\n23h50\n\n\n\n	\n				\n				\n					\n		\n					\n		\n				\n						\n					\n			\n						\n				\n					\n	\n				\n				\n					\n		\n				\n			\n						\n				\n					\n	\n	Lieu			\n				\n	\n	Maison des Choeurs\n	\n	\n\nPlace Albert 1er\n	\n		\n		Montpellier\,\n\n\n	34000\n\n	France\n\n\n\n\n\n\n	\n\n\n\n		\n	\n				\n				\n				\n				\n					\nÀ partir de 24€				\n				\n				\n				\n					\n	\n		\n\n	\n	Ajouter au calendrier	\n		\n	\n\n		\n			\n									\n	Google Agenda\n\n									\n	iCalendar\n\n									\n	Outlook 365\n\n																\n		\n\n		\n	\n\n				\n				\n				\n				\n					\n	\n\n	Catégories :	\n		EX TENEBRIS LUX	\n\n				\n				\n				\n				\n					\n	\n	Organisateur\n	WHAT THE FEST\n	\n\n				\n				\n				\n				\n							\n			\n		\n						\n				\n				\n				\n									\n					\n						\n									+ d'infos sur les artistes\n					\n					\n				\n								\n				\n					\n		\n					\n		\n				\n						\n					\n			\n						\n				\n										\n\n						\n				\n					\n		\n					\n		\n				\n						\n					\n			\n						\n				\n					\n	\n		\n\n				TAR POND [ULTRA DOOM-CH] & VESTIGE[FR] & LIMBES [FR]	\n\n\n		\n	\n		DARK HALLOWEEN EN ÉGLISE
URL:https://extenebrislux.fr/event/bunuel-heavy-turbulent-noise-rock-us-it-fr-arabrot-no-loons-fr/
LOCATION:Maison des Choeurs\, Place Albert 1er\, Montpellier\, 34000\, France
CATEGORIES:EX TENEBRIS LUX
ATTACH;FMTTYPE=image/jpeg:https://extenebrislux.fr/wp-content/uploads/508985135_1265677485561369_188539604482798214_n.jpeg
END:VEVENT
END:VCALENDAR